BEGIN:VCALENDAR
VERSION:2.0
PRODID:-//Stitches Influencing Purpose Initiative  - ECPv6.15.20//NONSGML v1.0//EN
CALSCALE:GREGORIAN
METHOD:PUBLISH
X-ORIGINAL-URL:https://sipinitiative.org
X-WR-CALDESC:Events for Stitches Influencing Purpose Initiative 
REFRESH-INTERVAL;VALUE=DURATION:PT1H
X-Robots-Tag:noindex
X-PUBLISHED-TTL:PT1H
BEGIN:VTIMEZONE
TZID:America/New_York
BEGIN:DAYLIGHT
TZOFFSETFROM:-0500
TZOFFSETTO:-0400
TZNAME:EDT
DTSTART:20240310T070000
END:DAYLIGHT
BEGIN:STANDARD
TZOFFSETFROM:-0400
TZOFFSETTO:-0500
TZNAME:EST
DTSTART:20241103T060000
END:STANDARD
BEGIN:DAYLIGHT
TZOFFSETFROM:-0500
TZOFFSETTO:-0400
TZNAME:EDT
DTSTART:20250309T070000
END:DAYLIGHT
BEGIN:STANDARD
TZOFFSETFROM:-0400
TZOFFSETTO:-0500
TZNAME:EST
DTSTART:20251102T060000
END:STANDARD
BEGIN:DAYLIGHT
TZOFFSETFROM:-0500
TZOFFSETTO:-0400
TZNAME:EDT
DTSTART:20260308T070000
END:DAYLIGHT
BEGIN:STANDARD
TZOFFSETFROM:-0400
TZOFFSETTO:-0500
TZNAME:EST
DTSTART:20261101T060000
END:STANDARD
END:VTIMEZONE
BEGIN:VEVENT
DTSTART;TZID=America/New_York:20251001T080000
DTEND;TZID=America/New_York:20251224T170000
DTSTAMP:20260423T184116
CREATED:20251002T185507Z
LAST-MODIFIED:20251002T185507Z
UID:2040-1759305600-1766595600@sipinitiative.org
SUMMARY:SIP: The S.T.E.A.L.T.H. Project
DESCRIPTION:The S.T.E.A.L.T.H. Holiday Project\n(Service Team of Elves and Angels Laboring Together to Help) \nThe Stitches Group is honored to present our annual holiday initiative\, The S.T.E.A.L.T.H. Holiday Project. \nUnlike traditional holiday drives\, this project is dedicated to reaching families who quietly endure hardship—those who are struggling but rarely speak of their needs\, and who often would never ask for help. With your support\, we aim to make their holiday season brighter by granting wishes and showing them they are not forgotten. \n\n\n\n\nHow You Can Get Involved\nThere are several ways to serve: \n\n🌟 Angels\nOur Angels adopt family members and provide gifts. They are the miracle-makers who bring this project to life. \n\n🎁 Elves\nOur Elves are the backbone of the operation—picking up and wrapping gifts\, helping with social media\, and assisting with deliveries. \n\n🎅 Santa’s\nOur Santa’s are our special stars! Dressed in festive hats\, they deliver wrapped presents door-to-door to children across Baton Rouge and surrounding areas. \n👉 You can choose one role or participate in many! However you serve\, the experience will be as fulfilling for you as it is for the families we help. \n\n\n\n\nApplying & Nominating Families\n\n 	Families do not need to apply for themselves; nominations are welcome.\n 	We will speak with the parent/guardian before accepting a family for assistance.\n 	All families must reside in Louisiana.\n\n\n\n\n \n\n\nApply Now         Nominate a Family\n\n\n\n\nWhat Do Families Need & Want?\nFamilies are selected based on need and circumstances. \n\n\n 	We do not accept or distribute violent or offensive toys\, books\, or gifts.\n 	All gifts must be dropped off by December 15th at one of our official locations.\n\nDrop-Off Location:The Stitches Group HQ11616 Southfork Avenue\, Suite 400Baton Rouge\, LA 70816 \n\n\n\n\nWrapping & Delivery\nOur Elves and Santas will come together for a festive Wrapping Party and launch point for Santa deliveries (date TBA). From there\, we’ll spread joy across the Capitol City and surrounding communities. \nApply Now         Nominate a Family \n\n\n\n\nContact Us\nFor details\, sign-up\, or media inquiries: \n📞 225.955.4971📧 info@thestitchesgroup.com \n\n\n\n\nThank You!\nJoin us in making a lasting impact this holiday season. Share the vision\, invite others to participate\, and let’s show families across Louisiana how much we care. All ages are welcome to serve!
URL:https://sipinitiative.org/event/sip-the-s-t-e-a-l-t-h-project/
LOCATION:LA
CATEGORIES:Community Outreach,Resource Distribution
ORGANIZER;CN="Dr. Jeremy L. Blunt":MAILTO:sip.initiative@gmail.com
END:VEVENT
END:VCALENDAR