BEGIN:VCALENDAR
VERSION:2.0
PRODID:-//Stitches Influencing Purpose Initiative  - ECPv6.15.20//NONSGML v1.0//EN
CALSCALE:GREGORIAN
METHOD:PUBLISH
X-WR-CALNAME:Stitches Influencing Purpose Initiative 
X-ORIGINAL-URL:https://sipinitiative.org
X-WR-CALDESC:Events for Stitches Influencing Purpose Initiative 
REFRESH-INTERVAL;VALUE=DURATION:PT1H
X-Robots-Tag:noindex
X-PUBLISHED-TTL:PT1H
BEGIN:VTIMEZONE
TZID:America/New_York
BEGIN:DAYLIGHT
TZOFFSETFROM:-0500
TZOFFSETTO:-0400
TZNAME:EDT
DTSTART:20220313T070000
END:DAYLIGHT
BEGIN:STANDARD
TZOFFSETFROM:-0400
TZOFFSETTO:-0500
TZNAME:EST
DTSTART:20221106T060000
END:STANDARD
BEGIN:DAYLIGHT
TZOFFSETFROM:-0500
TZOFFSETTO:-0400
TZNAME:EDT
DTSTART:20230312T070000
END:DAYLIGHT
BEGIN:STANDARD
TZOFFSETFROM:-0400
TZOFFSETTO:-0500
TZNAME:EST
DTSTART:20231105T060000
END:STANDARD
BEGIN:DAYLIGHT
TZOFFSETFROM:-0500
TZOFFSETTO:-0400
TZNAME:EDT
DTSTART:20240310T070000
END:DAYLIGHT
BEGIN:STANDARD
TZOFFSETFROM:-0400
TZOFFSETTO:-0500
TZNAME:EST
DTSTART:20241103T060000
END:STANDARD
END:VTIMEZONE
BEGIN:VEVENT
DTSTART;TZID=America/New_York:20230819T100000
DTEND;TZID=America/New_York:20230819T120000
DTSTAMP:20260425T120534
CREATED:20230110T222129Z
LAST-MODIFIED:20230110T222129Z
UID:1513-1692439200-1692446400@sipinitiative.org
SUMMARY:SIP: Fall Outreach
DESCRIPTION:
URL:https://sipinitiative.org/event/sip-fall-outreach/
LOCATION:LA
CATEGORIES:Community Outreach,Resource Distribution
ORGANIZER;CN="Dr. Jeremy L. Blunt":MAILTO:sip.initiative@gmail.com
END:VEVENT
END:VCALENDAR