BEGIN:VCALENDAR
VERSION:2.0
PRODID:-//Stitches Influencing Purpose Initiative  - ECPv6.15.20//NONSGML v1.0//EN
CALSCALE:GREGORIAN
METHOD:PUBLISH
X-WR-CALNAME:Stitches Influencing Purpose Initiative 
X-ORIGINAL-URL:https://sipinitiative.org
X-WR-CALDESC:Events for Stitches Influencing Purpose Initiative 
REFRESH-INTERVAL;VALUE=DURATION:PT1H
X-Robots-Tag:noindex
X-PUBLISHED-TTL:PT1H
BEGIN:VTIMEZONE
TZID:America/New_York
BEGIN:DAYLIGHT
TZOFFSETFROM:-0500
TZOFFSETTO:-0400
TZNAME:EDT
DTSTART:20210314T070000
END:DAYLIGHT
BEGIN:STANDARD
TZOFFSETFROM:-0400
TZOFFSETTO:-0500
TZNAME:EST
DTSTART:20211107T060000
END:STANDARD
BEGIN:DAYLIGHT
TZOFFSETFROM:-0500
TZOFFSETTO:-0400
TZNAME:EDT
DTSTART:20220313T070000
END:DAYLIGHT
BEGIN:STANDARD
TZOFFSETFROM:-0400
TZOFFSETTO:-0500
TZNAME:EST
DTSTART:20221106T060000
END:STANDARD
BEGIN:DAYLIGHT
TZOFFSETFROM:-0500
TZOFFSETTO:-0400
TZNAME:EDT
DTSTART:20230312T070000
END:DAYLIGHT
BEGIN:STANDARD
TZOFFSETFROM:-0400
TZOFFSETTO:-0500
TZNAME:EST
DTSTART:20231105T060000
END:STANDARD
BEGIN:DAYLIGHT
TZOFFSETFROM:-0500
TZOFFSETTO:-0400
TZNAME:EDT
DTSTART:20240310T070000
END:DAYLIGHT
BEGIN:STANDARD
TZOFFSETFROM:-0400
TZOFFSETTO:-0500
TZNAME:EST
DTSTART:20241103T060000
END:STANDARD
BEGIN:DAYLIGHT
TZOFFSETFROM:-0500
TZOFFSETTO:-0400
TZNAME:EDT
DTSTART:20250309T070000
END:DAYLIGHT
BEGIN:STANDARD
TZOFFSETFROM:-0400
TZOFFSETTO:-0500
TZNAME:EST
DTSTART:20251102T060000
END:STANDARD
BEGIN:DAYLIGHT
TZOFFSETFROM:-0500
TZOFFSETTO:-0400
TZNAME:EDT
DTSTART:20260308T070000
END:DAYLIGHT
BEGIN:STANDARD
TZOFFSETFROM:-0400
TZOFFSETTO:-0500
TZNAME:EST
DTSTART:20261101T060000
END:STANDARD
END:VTIMEZONE
BEGIN:VEVENT
DTSTART;TZID=America/New_York:20251122T110000
DTEND;TZID=America/New_York:20251122T140000
DTSTAMP:20260423T200254
CREATED:20230110T222721Z
LAST-MODIFIED:20251008T190038Z
UID:1517-1763809200-1763820000@sipinitiative.org
SUMMARY:SIP: Feeding the Deserving
DESCRIPTION:Annual community outreach event dedicated to providing nourishing meals\, emotional support\, and vital resources to individuals and families throughout the Greater Baton Rouge area. This event goes beyond a traditional meal—it is an opportunity to foster connection\, dignity\, and empowerment for all who join us. \n \nEvery year\, with the help of generous sponsors and dedicated volunteers\, SIP brings together neighbors\, families\, and friends to share not only food\, but also information\, love\, and hope. Our individualized approach ensures that each guest receives more than a meal—they find community\, encouragement\, and access to ongoing resources that can lead to lasting independence. \n \nAt SIP Initiative\, we believe that everyone deserves to feel seen\, supported\, and uplifted. “Feeding the Deserving” is just one way we live out our mission to connect people with resources\, education\, and emotional support as they transition to empowerment. \n \nWe encourage you to get involved as a participant\, volunteer\, or sponsor. Together\, we’re serving more than food—we’re building a stronger\, more resilient Baton Rouge.
URL:https://sipinitiative.org/event/sip-unsheltered-outreach-feeding-the-deserving/
LOCATION:Prescott Academy\, 4055 Prescott Rd\, Baton Rouge\, 70805\, United States
CATEGORIES:Community Outreach,Food Distribution,Resource Distribution,Unsheltered Outreach
ATTACH;FMTTYPE=image/png:https://sipinitiative.org/wp-content/uploads/2023/01/Blue-and-Yellow-Modern-Fundraising-Event-Flyer.png
ORGANIZER;CN="Dr. Jeremy L. Blunt":MAILTO:sip.initiative@gmail.com
END:VEVENT
BEGIN:VEVENT
DTSTART;TZID=America/New_York:20250928T080000
DTEND;TZID=America/New_York:20250928T110000
DTSTAMP:20260423T200254
CREATED:20251001T182249Z
LAST-MODIFIED:20251001T182253Z
UID:2036-1759046400-1759057200@sipinitiative.org
SUMMARY:Walk to End Alzheimer's Disease
DESCRIPTION:We are so excited to announce our partnership with @alzassociation of Baton Rouge and our support for the 2025 Walk to End Alzheimer’s. Join in our campaign by helping us reach our 1K donation goal. Together we can fight for a better future
URL:https://sipinitiative.org/event/walk-to-end-alzheimers-disease-2/
LOCATION:Pennington Biomedical Research Center\, 6400 Perkins Road\, Baton Rouge\, LA\, 70808\, United States
CATEGORIES:Community Awareness,Community Outreach,Fundraiser
ATTACH;FMTTYPE=image/jpeg:https://sipinitiative.org/wp-content/uploads/2023/10/IMG_20250924_214920.jpg
END:VEVENT
BEGIN:VEVENT
DTSTART;TZID=America/New_York:20250413T110000
DTEND;TZID=America/New_York:20250413T140000
DTSTAMP:20260423T200254
CREATED:20250404T031757Z
LAST-MODIFIED:20250404T031757Z
UID:2018-1744542000-1744552800@sipinitiative.org
SUMMARY:Community Easter Egg Hunt
DESCRIPTION:🐣🐰 2nd Annual Community Easter Egg Hunt 🐰🐣 \nHop on over to the Paula G. Manship YMCA for a fun-filled day of egg-citing adventure! 🎉 \nBring your family and friends and join us for a memorable day of hunting for colorful eggs hidden throughout the grounds. There will be laughter\, joy\, and of course\, lots of chocolate eggs waiting to be found! 🍫🥚 \n✨ Don’t miss out on this egg-tacular opportunity to celebrate Easter with your community! \nMark your calendars and hop on over! 🐇💐 \n#EasterEggHunt #CommunityFun #FamilyEvent #PaulaGManshipYMCA #EasterCelebration #EggHuntFun #ChocolateEggs
URL:https://sipinitiative.org/event/community-easter-egg-hunt-2/
LOCATION:Paula G. Manship YMCA\, 8100 YMCA Plaza Drive\, Baton Rouge\, 70810\, United States
CATEGORIES:Community Outreach,Resource Distribution
ATTACH;FMTTYPE=image/png:https://sipinitiative.org/wp-content/uploads/2025/03/SIP-Community-Easter-Egg-Hunt-2025.png
ORGANIZER;CN="SIP Initiative":MAILTO:SIPINITIATIVE@GMAIL.COM
END:VEVENT
BEGIN:VEVENT
DTSTART;TZID=America/New_York:20241102T080000
DTEND;TZID=America/New_York:20241102T110000
DTSTAMP:20260423T200254
CREATED:20231021T180006Z
LAST-MODIFIED:20241021T173750Z
UID:1602-1730534400-1730545200@sipinitiative.org
SUMMARY:Walk to End Alzheimer's Disease
DESCRIPTION:We are so excited to annouce our partnership with @alzassociation of Baton Rouge and our support for the 2024 Walk to End Alzheimers. Join in our campaign by helping us reach our 1K donation goal. Together we can fight for a better future \nUse this link to sign up to volunteer with us.\nhttps://form.jotform.com/TheSIP/2024-volunteer-registration-form
URL:https://sipinitiative.org/event/walk-to-end-alzheimers-disease/
LOCATION:Pennington Biomedical Research Center\, 6400 Perkins Road\, Baton Rouge\, LA\, 70808\, United States
CATEGORIES:Community Awareness,Community Outreach,Fundraiser
ORGANIZER;CN="Deatra Peoples-Blunt":MAILTO:dpeoples@thestitchesgroup.com
END:VEVENT
BEGIN:VEVENT
DTSTART;TZID=America/New_York:20241012T150000
DTEND;TZID=America/New_York:20241012T170000
DTSTAMP:20260423T200254
CREATED:20230110T222451Z
LAST-MODIFIED:20241021T164412Z
UID:1515-1728745200-1728752400@sipinitiative.org
SUMMARY:SIP: 4th Annual Bullying & Suicide Awareness Runway Show
DESCRIPTION:
URL:https://sipinitiative.org/event/sip-suicide-awareness-fashion-show/
LOCATION:LA
CATEGORIES:Community Outreach,Networking Event,Resource Distribution
ATTACH;FMTTYPE=image/jpeg:https://sipinitiative.org/wp-content/uploads/2023/01/462544911_1066690435461621_1945792054418611432_n.jpg
END:VEVENT
BEGIN:VEVENT
DTSTART;VALUE=DATE:20241001
DTEND;VALUE=DATE:20241225
DTSTAMP:20260423T200254
CREATED:20241010T223105Z
LAST-MODIFIED:20241021T173247Z
UID:1519-1727740800-1735084799@sipinitiative.org
SUMMARY:SIP: The S.T.E.A.L.T.H. Project
DESCRIPTION:The Stitches’ Group is honored to present our annual holiday project\, The S.T.E.A.L.T.H. (Service Team of Elves and Angels Laboring Together to Help) Holiday Project.\nThe S.T.E.A.L.T.H. Holiday Project is different from traditional holiday projects by who it aims to help. It seeks those who do not normally receive assistance and would not speak of their hardship. The families who do not have\, are struggling to get by\, and often would never ask for handouts or a hand up will get many of their wishes granted during this season of giving with your help. \n \nHow Can You Get Involved?\nThere are several ways to be involved \n \n\nOur Angels adopt members of the families and provide gifts for them. They create the miracles that make this initiative work. \n\n \nOur Elves are the backbone of our process. They pick up presents\, wrap presents\, help with social media & assist with delivering presents. \n\n \nSanta’s – Our Santa’s are our special stars that wrap presents & deliver presents to the kids all over the Capitol City & surrounding area!! They provide door to door service dressed in unique Santa hats!! \n\n \n\nElves\n \nAngels\n \nSanta’s\n\n\n \nYou can choose one way to help or many ways!! We want the experience to be as fulfilling for you as it is for the families we serve. Let’s make a bigger impact on our community to show how much we care!! \n \n \n \nApplications DO NOT need to be submitted by a member of the family – however\, we will need to speak to the adult/parent in the family prior to actually accepting that family for assistance. \n \nAll families applying for assistance must reside in Louisiana. \n \n\nApply\n \nNominate a Family\n\n \nWhat Do The Families Need & Want?\nFamilies are nominated and selected based on need and circumstances. \n \n(We do not accept or give out any violent or offensive toys\, books or gifts of any type.) \n \nAll gifts will need to be into one of our drop off locations by Dec. 15th. \n \nWhere Do People Drop Off Presents?\nThe Stitches Group HQ Office\n11616 Southfork Avenue\, Suite 400\, Baton Rouge\, LA 70816 \n \nHow Do The Presents Get Wrapped & Delivered?\nWe are counting on our Elves & Santa Clauses to gather to wrap presents\, deliver presents and show those in and around the Capitol city we love them!!! \n \nThe Stitches Group and their partners will host a wrapping party and the launching point for Santa take off for delivery.  (TBA) \n \n\nAdopt a Family / Donate\n\n \nWho do we talk to for more details & sign up?\nAll Marketing & P.R. contact: \n \n225.955.4971 info@thestitchesgroup.com \n \nThank you again. Share our vision and ask others to join us! All ages are welcome!
URL:https://sipinitiative.org/event/sip-the-stealth-project/
LOCATION:LA
CATEGORIES:Community Outreach,Resource Distribution
ATTACH;FMTTYPE=application/pdf:https://sipinitiative.org/wp-content/uploads/2023/01/S.T.E.A.L.T.H.-2024-.pdf
ORGANIZER;CN="Dr. Jeremy L. Blunt":MAILTO:sip.initiative@gmail.com
END:VEVENT
BEGIN:VEVENT
DTSTART;TZID=America/New_York:20240531T180000
DTEND;TZID=America/New_York:20240531T213000
DTSTAMP:20260423T200254
CREATED:20240418T003332Z
LAST-MODIFIED:20240418T015239Z
UID:1770-1717178400-1717191000@sipinitiative.org
SUMMARY:Mental Health Gallery Closing Art Reception: "Break Free\, From the Illusion of Yourself"
DESCRIPTION:This exhibition is about bending the formalities of the art world. The artist Whitney Banks is on a journey. A journey of self actualization and freedom of all illusions of herself; and her artwork and the vision of the exhibition proves that. The exhibition is on display at The Mental Health Gallery located at the The Stitches Group Headquarters.
URL:https://sipinitiative.org/event/closing-art-reception-break-free-from-the-illusion-of-yourself/
LOCATION:Stitches Group HQ Office\, 11616 Southfork Drive\, Baton Rouge\, LA\, 70816\, United States
CATEGORIES:Networking Event
ATTACH;FMTTYPE=image/jpeg:https://sipinitiative.org/wp-content/uploads/2024/04/Break-Free.jpg
END:VEVENT
BEGIN:VEVENT
DTSTART;TZID=America/New_York:20240427T100000
DTEND;TZID=America/New_York:20240427T130000
DTSTAMP:20260423T200254
CREATED:20240421T152548Z
LAST-MODIFIED:20240421T152548Z
UID:1871-1714212000-1714222800@sipinitiative.org
SUMMARY:Red Wig Walk 2024
DESCRIPTION:
URL:https://sipinitiative.org/event/red-wig-walk-2024/
LOCATION:AZ Young Park\, 800 3rd Street\, Baton Rouge\, LA 70801\, 800 Third Street\, BATON ROUGE\, LA\, 70801\, United States
CATEGORIES:Community Awareness,Community Outreach,Resource Distribution
ATTACH;FMTTYPE=image/jpeg:https://sipinitiative.org/wp-content/uploads/2024/04/Red-Wig-Walk-2024.jpg
END:VEVENT
BEGIN:VEVENT
DTSTART;TZID=America/New_York:20240324T110000
DTEND;TZID=America/New_York:20240324T140000
DTSTAMP:20260423T200254
CREATED:20240111T042527Z
LAST-MODIFIED:20240111T042527Z
UID:1751-1711278000-1711288800@sipinitiative.org
SUMMARY:Community Easter Egg Hunt
DESCRIPTION:
URL:https://sipinitiative.org/event/community-easter-egg-hunt/
LOCATION:C B Pennington Jr YMCA\, 15550 Old Hammond Hwy\, Baton Rouge\, LA\, 70816\, United States
CATEGORIES:Community Outreach,Resource Distribution
ATTACH;FMTTYPE=image/png:https://sipinitiative.org/wp-content/uploads/2024/01/Community-Easter-Egg-Hunt-2024.png
ORGANIZER;CN="Dr. Jeremy L. Blunt":MAILTO:sip.initiative@gmail.com
END:VEVENT
BEGIN:VEVENT
DTSTART;TZID=America/New_York:20230819T100000
DTEND;TZID=America/New_York:20230819T120000
DTSTAMP:20260423T200254
CREATED:20230110T222129Z
LAST-MODIFIED:20230110T222129Z
UID:1513-1692439200-1692446400@sipinitiative.org
SUMMARY:SIP: Fall Outreach
DESCRIPTION:
URL:https://sipinitiative.org/event/sip-fall-outreach/
LOCATION:LA
CATEGORIES:Community Outreach,Resource Distribution
ORGANIZER;CN="Dr. Jeremy L. Blunt":MAILTO:sip.initiative@gmail.com
END:VEVENT
BEGIN:VEVENT
DTSTART;TZID=America/New_York:20230715T100000
DTEND;TZID=America/New_York:20230715T123000
DTSTAMP:20260423T200254
CREATED:20230110T221914Z
LAST-MODIFIED:20230110T221914Z
UID:1511-1689415200-1689424200@sipinitiative.org
SUMMARY:SIP: Summer Outreach
DESCRIPTION:
URL:https://sipinitiative.org/event/sip-summer-outreach/
LOCATION:LA
CATEGORIES:Community Outreach,Resource Distribution
ORGANIZER;CN="Dr. Jeremy L. Blunt":MAILTO:sip.initiative@gmail.com
END:VEVENT
BEGIN:VEVENT
DTSTART;TZID=America/New_York:20230415T100000
DTEND;TZID=America/New_York:20230415T120000
DTSTAMP:20260423T200254
CREATED:20230110T221402Z
LAST-MODIFIED:20230110T221402Z
UID:1507-1681552800-1681560000@sipinitiative.org
SUMMARY:SIP Unsheltered Outreach - Spring Community Outreach
DESCRIPTION:
URL:https://sipinitiative.org/event/sip-unsheltered-outreach-spring-community-outreach/
LOCATION:LA
CATEGORIES:Community Outreach,Resource Distribution
ORGANIZER;CN="Dr. Jeremy L. Blunt":MAILTO:sip.initiative@gmail.com
END:VEVENT
BEGIN:VEVENT
DTSTART;TZID=America/New_York:20230114T100000
DTEND;TZID=America/New_York:20230114T120000
DTSTAMP:20260423T200254
CREATED:20230110T215116Z
LAST-MODIFIED:20230110T215116Z
UID:1500-1673690400-1673697600@sipinitiative.org
SUMMARY:SIP Unsheltered Outreach - Blanket & Soup Giveaway
DESCRIPTION:
URL:https://sipinitiative.org/event/sip-unsheltered-outreach-blanket-soup-giveaway/
LOCATION:It Takes a Village\, 136 St. Vincent De Paul Drive\, Baton Rouge\, 70802\, United States
CATEGORIES:Community Outreach,Resource Distribution,Unsheltered Outreach
ATTACH;FMTTYPE=image/jpeg:https://sipinitiative.org/wp-content/uploads/2023/01/thumbnail_IMG_9315.jpg
ORGANIZER;CN="Dr. Jeremy L. Blunt":MAILTO:sip.initiative@gmail.com
END:VEVENT
BEGIN:VEVENT
DTSTART;TZID=America/New_York:20221210T110000
DTEND;TZID=America/New_York:20221210T140000
DTSTAMP:20260423T200254
CREATED:20221026T020654Z
LAST-MODIFIED:20221103T030912Z
UID:1315-1670670000-1670680800@sipinitiative.org
SUMMARY:Feeding the Deserving 2022
DESCRIPTION:Join Us as we serve those who need it the most in our community.  Donations accepted and volunteers Welcome.
URL:https://sipinitiative.org/event/feeding-the-deserving-2022/
LOCATION:MJ Food Mart\, 1357 Florida Blvd\, Baton Rouge\, LA\, 70802\, United States
CATEGORIES:Community Outreach,Food Distribution,Unsheltered Outreach
ATTACH;FMTTYPE=image/png:https://sipinitiative.org/wp-content/uploads/2022/10/FTD-Op-1.png
ORGANIZER;CN="Dr. Jeremy L. Blunt":MAILTO:sip.initiative@gmail.com
END:VEVENT
BEGIN:VEVENT
DTSTART;VALUE=DATE:20221101
DTEND;VALUE=DATE:20221223
DTSTAMP:20260423T200254
CREATED:20221026T035337Z
LAST-MODIFIED:20221026T035337Z
UID:1320-1667260800-1671753599@sipinitiative.org
SUMMARY:STEALTH Project 2022
DESCRIPTION:Join us as we celebrate the holiday season with our signature project The S.T.E.A.L.T.H. (Service Team of Elves and Angels Laboring Together to Help) Holiday Project.  There are three ways to be involved: \nBe an Angel – Nominate a Family and/or Donate a Gift \nBe an Elf – Donate Your Time \nBecome part of the experience that will be as rewarding to you as it is for the families we serve. \nUse the link below and click on the area you wish to sign up for. \n_S.T.E.A.L.T.H. 2022 \nTogether we will bring cheer to hearts of many
URL:https://sipinitiative.org/event/stealth-project-2022/
LOCATION:LA
CATEGORIES:Community Outreach
ATTACH;FMTTYPE=image/png:https://sipinitiative.org/wp-content/uploads/2022/10/S.T.E.A.L.T.H.-2022-SIP-IG-Media-Graphic-Facebook-Cover-1.png
ORGANIZER;CN="Dr. Jeremy L. Blunt":MAILTO:sip.initiative@gmail.com
END:VEVENT
BEGIN:VEVENT
DTSTART;TZID=America/New_York:20221018T090000
DTEND;TZID=America/New_York:20221018T110000
DTSTAMP:20260423T200254
CREATED:20221026T035818Z
LAST-MODIFIED:20221026T035818Z
UID:1334-1666083600-1666090800@sipinitiative.org
SUMMARY:Community Breakfast
DESCRIPTION:Hosted by: Glen Oaks Magnet High School and ICARE \n 
URL:https://sipinitiative.org/event/community-breakfast/
LOCATION:LA
END:VEVENT
BEGIN:VEVENT
DTSTART;TZID=America/New_York:20221008T080000
DTEND;TZID=America/New_York:20221008T140000
DTSTAMP:20260423T200254
CREATED:20221026T044943Z
LAST-MODIFIED:20221026T044943Z
UID:1357-1665216000-1665237600@sipinitiative.org
SUMMARY:YMCA Annual Golf Tournament Fundraiser
DESCRIPTION:
URL:https://sipinitiative.org/event/ymca-annual-golf-tournament-fundraiser/
LOCATION:Beaver Creek Golf Course\, 1100 Plains-Port Hudson Road\, Zachary\, LA\, United States
CATEGORIES:Community Outreach,Networking Event
ATTACH;FMTTYPE=image/jpeg:https://sipinitiative.org/wp-content/uploads/2022/10/311031556_10222145428530778_7870297115921256006_n.jpg
END:VEVENT
BEGIN:VEVENT
DTSTART;TZID=America/New_York:20221006T180000
DTEND;TZID=America/New_York:20221006T200000
DTSTAMP:20260423T200254
CREATED:20221026T040325Z
LAST-MODIFIED:20221026T040325Z
UID:1336-1665079200-1665086400@sipinitiative.org
SUMMARY:Canvas & Conversation
DESCRIPTION:
URL:https://sipinitiative.org/event/canvas-conversation/
LOCATION:Stitches Group HQ Office\, 11616 Southfork Drive\, Baton Rouge\, LA\, 70816\, United States
CATEGORIES:Community Outreach,Networking Event
ATTACH;FMTTYPE=image/jpeg:https://sipinitiative.org/wp-content/uploads/2022/10/306756743_593893292279753_973740807817347386_n.jpg
END:VEVENT
BEGIN:VEVENT
DTSTART;TZID=America/New_York:20221002T150000
DTEND;TZID=America/New_York:20221002T170000
DTSTAMP:20260423T200254
CREATED:20221026T041125Z
LAST-MODIFIED:20221026T041125Z
UID:1339-1664722800-1664730000@sipinitiative.org
SUMMARY:Bullying and Suicide Awareness Fashion Show
DESCRIPTION:
URL:https://sipinitiative.org/event/bullying-and-suicide-awareness-fashion-show/
LOCATION:LA
END:VEVENT
BEGIN:VEVENT
DTSTART;TZID=America/New_York:20220927T080000
DTEND;TZID=America/New_York:20220927T130000
DTSTAMP:20260423T200254
CREATED:20221026T041852Z
LAST-MODIFIED:20221026T041852Z
UID:1342-1664265600-1664283600@sipinitiative.org
SUMMARY:Teen & Tween Spirit: Silence the Violence
DESCRIPTION:Annual event hosted by ICARE for select middle and high students from all over the East Baton Rouge Parish School District desiring to see change in their schools and community. Over two days discussed topics included drugs\, vaping\, alcohol\, bullying and suicide.
URL:https://sipinitiative.org/event/teen-tween-spirit-silence-the-violence/
LOCATION:LA
END:VEVENT
BEGIN:VEVENT
DTSTART;TZID=America/New_York:20220924T170000
DTEND;TZID=America/New_York:20220924T200000
DTSTAMP:20260423T200254
CREATED:20221026T042812Z
LAST-MODIFIED:20221026T042812Z
UID:1347-1664038800-1664049600@sipinitiative.org
SUMMARY:Greater Baton Rouge Food Bank Empty Bowl Fundraiser
DESCRIPTION:
URL:https://sipinitiative.org/event/greater-baton-rouge-food-bank-empty-bowl-fundraiser/
LOCATION:LA
CATEGORIES:Community Outreach,Networking Event
END:VEVENT
BEGIN:VEVENT
DTSTART;TZID=America/New_York:20220924T090000
DTEND;TZID=America/New_York:20220924T130000
DTSTAMP:20260423T200254
CREATED:20221026T042604Z
LAST-MODIFIED:20221026T042604Z
UID:1345-1664010000-1664024400@sipinitiative.org
SUMMARY:Bikers Against Suicide Rally and Ride
DESCRIPTION:The First Bikers’ Suicide Awareness Rally and Ride.
URL:https://sipinitiative.org/event/bikers-against-suicide-rally-and-ride/
LOCATION:LA
CATEGORIES:Community Outreach
END:VEVENT
BEGIN:VEVENT
DTSTART;VALUE=DATE:20220901
DTEND;VALUE=DATE:20221001
DTSTAMP:20260423T200254
CREATED:20221026T043007Z
LAST-MODIFIED:20221026T043007Z
UID:1349-1661990400-1664582399@sipinitiative.org
SUMMARY:Stitches Against Suicide Run 2022
DESCRIPTION:
URL:https://sipinitiative.org/event/stitches-against-suicide-run-2022/
LOCATION:LA
END:VEVENT
BEGIN:VEVENT
DTSTART;TZID=America/New_York:20220826T170000
DTEND;TZID=America/New_York:20220826T200000
DTSTAMP:20260423T200254
CREATED:20221026T044418Z
LAST-MODIFIED:20221026T044418Z
UID:1352-1661533200-1661544000@sipinitiative.org
SUMMARY:Mental Health Art Gallery - Quarterly Closing Reception
DESCRIPTION:
URL:https://sipinitiative.org/event/mental-health-art-gallery-quarterly-closing-reception/
LOCATION:Stitches Group HQ Office\, 11616 Southfork Drive\, Baton Rouge\, LA\, 70816\, United States
CATEGORIES:Community Outreach
ATTACH;FMTTYPE=image/jpeg:https://sipinitiative.org/wp-content/uploads/2022/10/300261532_1155621761655871_8934724067397836379_n.jpg
ORGANIZER;CN="Dr. Jeremy L. Blunt":MAILTO:sip.initiative@gmail.com
END:VEVENT
BEGIN:VEVENT
DTSTART;TZID=America/New_York:20220821T090000
DTEND;TZID=America/New_York:20220821T130000
DTSTAMP:20260423T200254
CREATED:20221026T045339Z
LAST-MODIFIED:20221026T045339Z
UID:1362-1661072400-1661086800@sipinitiative.org
SUMMARY:SIP Unsheltered Outreach
DESCRIPTION:
URL:https://sipinitiative.org/event/sip-unsheltered-outreach/
LOCATION:LA
CATEGORIES:Community Outreach,Food Distribution,Unsheltered Outreach
ORGANIZER;CN="Dr. Jeremy L. Blunt":MAILTO:sip.initiative@gmail.com
END:VEVENT
BEGIN:VEVENT
DTSTART;TZID=America/New_York:20220806T090000
DTEND;TZID=America/New_York:20220806T110000
DTSTAMP:20260423T200254
CREATED:20221026T045645Z
LAST-MODIFIED:20221026T045645Z
UID:1364-1659776400-1659783600@sipinitiative.org
SUMMARY:Back to School with Gardere Initiative
DESCRIPTION:
URL:https://sipinitiative.org/event/back-to-school-with-gardere-initiative/
LOCATION:LA
CATEGORIES:Back to School,Community Outreach
ATTACH;FMTTYPE=image/jpeg:https://sipinitiative.org/wp-content/uploads/2022/10/297648800_10221896691552509_4348183719989656952_n.jpg
END:VEVENT
BEGIN:VEVENT
DTSTART;VALUE=DATE:20220731
DTEND;VALUE=DATE:20220801
DTSTAMP:20260423T200254
CREATED:20221026T050232Z
LAST-MODIFIED:20221026T050232Z
UID:1367-1659225600-1659311999@sipinitiative.org
SUMMARY:World Against Trafficking Event
DESCRIPTION:Hosted by Brown Helen and No More Tears Foundation. Shreveport\, Louisiana
URL:https://sipinitiative.org/event/world-against-trafficking-event/
LOCATION:LA
CATEGORIES:Community Outreach
END:VEVENT
BEGIN:VEVENT
DTSTART;TZID=America/New_York:20220723T090000
DTEND;TZID=America/New_York:20220723T140000
DTSTAMP:20260423T200254
CREATED:20221026T050457Z
LAST-MODIFIED:20221026T050457Z
UID:1369-1658566800-1658584800@sipinitiative.org
SUMMARY:5th Annual Back 2 School Extravaganza
DESCRIPTION:Hosted by Give 365BR and The Baton Rouge Police Department
URL:https://sipinitiative.org/event/5th-annual-back-2-school-extravaganza/
LOCATION:LA
CATEGORIES:Back to School,Community Outreach
ATTACH;FMTTYPE=image/jpeg:https://sipinitiative.org/wp-content/uploads/2022/10/295691331_10221843397300186_1272971303571499949_n.jpg
END:VEVENT
BEGIN:VEVENT
DTSTART;TZID=America/New_York:20220514T080000
DTEND;TZID=America/New_York:20220514T170000
DTSTAMP:20260423T200254
CREATED:20221026T050816Z
LAST-MODIFIED:20221026T051038Z
UID:1372-1652515200-1652547600@sipinitiative.org
SUMMARY:Red Wig Walk 2022
DESCRIPTION:
URL:https://sipinitiative.org/event/red-wig-walk-2022/
LOCATION:LA
CATEGORIES:Community Outreach
ATTACH;FMTTYPE=image/jpeg:https://sipinitiative.org/wp-content/uploads/2022/10/280762566_2087311351451026_3662017352379685629_n.jpg
END:VEVENT
BEGIN:VEVENT
DTSTART;TZID=America/New_York:20220509T170000
DTEND;TZID=America/New_York:20220509T200000
DTSTAMP:20260423T200254
CREATED:20221026T051255Z
LAST-MODIFIED:20221026T051255Z
UID:1375-1652115600-1652126400@sipinitiative.org
SUMMARY:Mental Health Art Gallery - 'More'
DESCRIPTION:
URL:https://sipinitiative.org/event/mental-health-art-gallery-more/
LOCATION:Stitches Group HQ Office\, 11616 Southfork Drive\, Baton Rouge\, LA\, 70816\, United States
CATEGORIES:Community Outreach
ATTACH;FMTTYPE=image/jpeg:https://sipinitiative.org/wp-content/uploads/2022/10/280367746_1087979311753450_647459123469850641_n.jpg
END:VEVENT
END:VCALENDAR