BEGIN:VCALENDAR
VERSION:2.0
PRODID:-//Stitches Influencing Purpose Initiative  - ECPv6.15.20//NONSGML v1.0//EN
CALSCALE:GREGORIAN
METHOD:PUBLISH
X-ORIGINAL-URL:https://sipinitiative.org
X-WR-CALDESC:Events for Stitches Influencing Purpose Initiative 
REFRESH-INTERVAL;VALUE=DURATION:PT1H
X-Robots-Tag:noindex
X-PUBLISHED-TTL:PT1H
BEGIN:VTIMEZONE
TZID:America/New_York
BEGIN:DAYLIGHT
TZOFFSETFROM:-0500
TZOFFSETTO:-0400
TZNAME:EDT
DTSTART:20250309T070000
END:DAYLIGHT
BEGIN:STANDARD
TZOFFSETFROM:-0400
TZOFFSETTO:-0500
TZNAME:EST
DTSTART:20251102T060000
END:STANDARD
BEGIN:DAYLIGHT
TZOFFSETFROM:-0500
TZOFFSETTO:-0400
TZNAME:EDT
DTSTART:20260308T070000
END:DAYLIGHT
BEGIN:STANDARD
TZOFFSETFROM:-0400
TZOFFSETTO:-0500
TZNAME:EST
DTSTART:20261101T060000
END:STANDARD
BEGIN:DAYLIGHT
TZOFFSETFROM:-0500
TZOFFSETTO:-0400
TZNAME:EDT
DTSTART:20270314T070000
END:DAYLIGHT
BEGIN:STANDARD
TZOFFSETFROM:-0400
TZOFFSETTO:-0500
TZNAME:EST
DTSTART:20271107T060000
END:STANDARD
END:VTIMEZONE
BEGIN:VEVENT
DTSTART;TZID=America/New_York:20260503T160000
DTEND;TZID=America/New_York:20260503T200000
DTSTAMP:20260423T144156
CREATED:20260312T022144Z
LAST-MODIFIED:20260312T022144Z
UID:2169-1777824000-1777838400@sipinitiative.org
SUMMARY:"The Art of Managing Your Mental Health" Experience
DESCRIPTION:The Art of Managing Your Mental Health\nThe Art of Managing Your Mental Health is a community-centered event hosted by the Stitches Influencing Purpose (SIP) Initiative\, designed to promote mental wellness\, emotional resilience\, and practical strategies for navigating life’s challenges. \nThis event brings together mental health professionals\, community leaders\, educators\, and individuals for meaningful conversations about managing stress\, building healthy coping mechanisms\, and strengthening overall well-being. Through engaging discussions\, interactive sessions\, and access to valuable resources\, participants will gain tools that support both personal growth and healthier communities. \nOur goal is to create a welcoming environment where individuals can learn\, connect\, and explore practical approaches to maintaining mental and emotional balance in today’s fast-paced world. \nAt the SIP Initiative\, we believe that mental health is a vital part of overall wellness\, and by creating spaces for education\, dialogue\, and empowerment\, we can help individuals and families thrive.
URL:https://sipinitiative.org/event/the-art-of-managing-your-mental-health-experience/
LOCATION:Stitches Group HQ Office\, 11616 Southfork Drive\, Baton Rouge\, LA\, 70816\, United States
CATEGORIES:Community Awareness,Community Outreach,Fundraiser
ATTACH;FMTTYPE=image/png:https://sipinitiative.org/wp-content/uploads/2026/03/art-of-managing-your-mh_1-2.png
ORGANIZER;CN="SIP Initiative":MAILTO:SIPINITIATIVE@GMAIL.COM
END:VEVENT
END:VCALENDAR