BEGIN:VCALENDAR
VERSION:2.0
PRODID:-//Stitches Influencing Purpose Initiative  - ECPv6.15.20//NONSGML v1.0//EN
CALSCALE:GREGORIAN
METHOD:PUBLISH
X-WR-CALNAME:Stitches Influencing Purpose Initiative 
X-ORIGINAL-URL:https://sipinitiative.org
X-WR-CALDESC:Events for Stitches Influencing Purpose Initiative 
REFRESH-INTERVAL;VALUE=DURATION:PT1H
X-Robots-Tag:noindex
X-PUBLISHED-TTL:PT1H
BEGIN:VTIMEZONE
TZID:America/New_York
BEGIN:DAYLIGHT
TZOFFSETFROM:-0500
TZOFFSETTO:-0400
TZNAME:EDT
DTSTART:20200308T070000
END:DAYLIGHT
BEGIN:STANDARD
TZOFFSETFROM:-0400
TZOFFSETTO:-0500
TZNAME:EST
DTSTART:20201101T060000
END:STANDARD
BEGIN:DAYLIGHT
TZOFFSETFROM:-0500
TZOFFSETTO:-0400
TZNAME:EDT
DTSTART:20210314T070000
END:DAYLIGHT
BEGIN:STANDARD
TZOFFSETFROM:-0400
TZOFFSETTO:-0500
TZNAME:EST
DTSTART:20211107T060000
END:STANDARD
BEGIN:DAYLIGHT
TZOFFSETFROM:-0500
TZOFFSETTO:-0400
TZNAME:EDT
DTSTART:20220313T070000
END:DAYLIGHT
BEGIN:STANDARD
TZOFFSETFROM:-0400
TZOFFSETTO:-0500
TZNAME:EST
DTSTART:20221106T060000
END:STANDARD
BEGIN:DAYLIGHT
TZOFFSETFROM:-0500
TZOFFSETTO:-0400
TZNAME:EDT
DTSTART:20230312T070000
END:DAYLIGHT
BEGIN:STANDARD
TZOFFSETFROM:-0400
TZOFFSETTO:-0500
TZNAME:EST
DTSTART:20231105T060000
END:STANDARD
END:VTIMEZONE
BEGIN:VEVENT
DTSTART;TZID=America/New_York:20220924T090000
DTEND;TZID=America/New_York:20220924T130000
DTSTAMP:20260423T201931
CREATED:20221026T042604Z
LAST-MODIFIED:20221026T042604Z
UID:1345-1664010000-1664024400@sipinitiative.org
SUMMARY:Bikers Against Suicide Rally and Ride
DESCRIPTION:The First Bikers’ Suicide Awareness Rally and Ride.
URL:https://sipinitiative.org/event/bikers-against-suicide-rally-and-ride/
CATEGORIES:Community Outreach
END:VEVENT
BEGIN:VEVENT
DTSTART;VALUE=DATE:20220901
DTEND;VALUE=DATE:20221001
DTSTAMP:20260423T201931
CREATED:20221026T043007Z
LAST-MODIFIED:20221026T043007Z
UID:1349-1661990400-1664582399@sipinitiative.org
SUMMARY:Stitches Against Suicide Run 2022
DESCRIPTION:
URL:https://sipinitiative.org/event/stitches-against-suicide-run-2022/
END:VEVENT
BEGIN:VEVENT
DTSTART;TZID=America/New_York:20220826T170000
DTEND;TZID=America/New_York:20220826T200000
DTSTAMP:20260423T201931
CREATED:20221026T044418Z
LAST-MODIFIED:20221026T044418Z
UID:1352-1661533200-1661544000@sipinitiative.org
SUMMARY:Mental Health Art Gallery - Quarterly Closing Reception
DESCRIPTION:
URL:https://sipinitiative.org/event/mental-health-art-gallery-quarterly-closing-reception/
LOCATION:Stitches Group HQ Office\, 11616 Southfork Drive\, Baton Rouge\, LA\, 70816\, United States
CATEGORIES:Community Outreach
ATTACH;FMTTYPE=image/jpeg:https://sipinitiative.org/wp-content/uploads/2022/10/300261532_1155621761655871_8934724067397836379_n.jpg
ORGANIZER;CN="Dr. Jeremy L. Blunt":MAILTO:sip.initiative@gmail.com
END:VEVENT
BEGIN:VEVENT
DTSTART;TZID=America/New_York:20220821T090000
DTEND;TZID=America/New_York:20220821T130000
DTSTAMP:20260423T201931
CREATED:20221026T045339Z
LAST-MODIFIED:20221026T045339Z
UID:1362-1661072400-1661086800@sipinitiative.org
SUMMARY:SIP Unsheltered Outreach
DESCRIPTION:
URL:https://sipinitiative.org/event/sip-unsheltered-outreach/
CATEGORIES:Community Outreach,Food Distribution,Unsheltered Outreach
ORGANIZER;CN="Dr. Jeremy L. Blunt":MAILTO:sip.initiative@gmail.com
END:VEVENT
BEGIN:VEVENT
DTSTART;TZID=America/New_York:20220806T090000
DTEND;TZID=America/New_York:20220806T110000
DTSTAMP:20260423T201931
CREATED:20221026T045645Z
LAST-MODIFIED:20221026T045645Z
UID:1364-1659776400-1659783600@sipinitiative.org
SUMMARY:Back to School with Gardere Initiative
DESCRIPTION:
URL:https://sipinitiative.org/event/back-to-school-with-gardere-initiative/
CATEGORIES:Back to School,Community Outreach
ATTACH;FMTTYPE=image/jpeg:https://sipinitiative.org/wp-content/uploads/2022/10/297648800_10221896691552509_4348183719989656952_n.jpg
END:VEVENT
BEGIN:VEVENT
DTSTART;VALUE=DATE:20220731
DTEND;VALUE=DATE:20220801
DTSTAMP:20260423T201931
CREATED:20221026T050232Z
LAST-MODIFIED:20221026T050232Z
UID:1367-1659225600-1659311999@sipinitiative.org
SUMMARY:World Against Trafficking Event
DESCRIPTION:Hosted by Brown Helen and No More Tears Foundation. Shreveport\, Louisiana
URL:https://sipinitiative.org/event/world-against-trafficking-event/
CATEGORIES:Community Outreach
END:VEVENT
BEGIN:VEVENT
DTSTART;TZID=America/New_York:20220723T090000
DTEND;TZID=America/New_York:20220723T140000
DTSTAMP:20260423T201931
CREATED:20221026T050457Z
LAST-MODIFIED:20221026T050457Z
UID:1369-1658566800-1658584800@sipinitiative.org
SUMMARY:5th Annual Back 2 School Extravaganza
DESCRIPTION:Hosted by Give 365BR and The Baton Rouge Police Department
URL:https://sipinitiative.org/event/5th-annual-back-2-school-extravaganza/
CATEGORIES:Back to School,Community Outreach
ATTACH;FMTTYPE=image/jpeg:https://sipinitiative.org/wp-content/uploads/2022/10/295691331_10221843397300186_1272971303571499949_n.jpg
END:VEVENT
BEGIN:VEVENT
DTSTART;TZID=America/New_York:20220514T080000
DTEND;TZID=America/New_York:20220514T170000
DTSTAMP:20260423T201931
CREATED:20221026T050816Z
LAST-MODIFIED:20221026T051038Z
UID:1372-1652515200-1652547600@sipinitiative.org
SUMMARY:Red Wig Walk 2022
DESCRIPTION:
URL:https://sipinitiative.org/event/red-wig-walk-2022/
CATEGORIES:Community Outreach
ATTACH;FMTTYPE=image/jpeg:https://sipinitiative.org/wp-content/uploads/2022/10/280762566_2087311351451026_3662017352379685629_n.jpg
END:VEVENT
BEGIN:VEVENT
DTSTART;TZID=America/New_York:20220509T170000
DTEND;TZID=America/New_York:20220509T200000
DTSTAMP:20260423T201931
CREATED:20221026T051255Z
LAST-MODIFIED:20221026T051255Z
UID:1375-1652115600-1652126400@sipinitiative.org
SUMMARY:Mental Health Art Gallery - 'More'
DESCRIPTION:
URL:https://sipinitiative.org/event/mental-health-art-gallery-more/
LOCATION:Stitches Group HQ Office\, 11616 Southfork Drive\, Baton Rouge\, LA\, 70816\, United States
CATEGORIES:Community Outreach
ATTACH;FMTTYPE=image/jpeg:https://sipinitiative.org/wp-content/uploads/2022/10/280367746_1087979311753450_647459123469850641_n.jpg
END:VEVENT
BEGIN:VEVENT
DTSTART;VALUE=DATE:20220503
DTEND;VALUE=DATE:20220504
DTSTAMP:20260423T201931
CREATED:20221026T051504Z
LAST-MODIFIED:20221026T051504Z
UID:1378-1651536000-1651622399@sipinitiative.org
SUMMARY:Mental Health Awareness Day at the Capitol
DESCRIPTION:
URL:https://sipinitiative.org/event/mental-health-awareness-day-at-the-capitol/
CATEGORIES:Community Outreach,Networking Event
END:VEVENT
BEGIN:VEVENT
DTSTART;TZID=America/New_York:20220429T180000
DTEND;TZID=America/New_York:20220429T200000
DTSTAMP:20260423T201931
CREATED:20220420T064703Z
LAST-MODIFIED:20220420T064703Z
UID:1273-1651255200-1651262400@sipinitiative.org
SUMMARY:Art Exhibition Soft Opening (Private Event)
DESCRIPTION:
URL:https://sipinitiative.org/event/art-exhibition-soft-opening-private-event/
LOCATION:Stitches Group HQ Office\, 11616 Southfork Drive\, Baton Rouge\, LA\, 70816\, United States
CATEGORIES:Networking Event
ATTACH;FMTTYPE=image/png:https://sipinitiative.org/wp-content/uploads/2022/04/Art-Event-Exhibition-Instagram-Post.png
ORGANIZER;CN="Dr. Jeremy L. Blunt":MAILTO:sip.initiative@gmail.com
END:VEVENT
BEGIN:VEVENT
DTSTART;TZID=America/New_York:20220429T090000
DTEND;TZID=America/New_York:20220429T120000
DTSTAMP:20260423T201931
CREATED:20221026T051633Z
LAST-MODIFIED:20221026T051633Z
UID:1380-1651222800-1651233600@sipinitiative.org
SUMMARY:The Magnolia Rose Foundation Walk
DESCRIPTION:
URL:https://sipinitiative.org/event/the-magnolia-rose-foundation-walk/
END:VEVENT
BEGIN:VEVENT
DTSTART;TZID=America/New_York:20220415T100000
DTEND;TZID=America/New_York:20220415T120000
DTSTAMP:20260423T201931
CREATED:20220408T171231Z
LAST-MODIFIED:20220408T171231Z
UID:1143-1650016800-1650024000@sipinitiative.org
SUMMARY:Spring Giveaway
DESCRIPTION:`Volunteer Registration\n		\n		Choose One
URL:https://sipinitiative.org/event/spring-giveaway/
CATEGORIES:Unsheltered Outreach
ATTACH;FMTTYPE=image/jpeg:https://sipinitiative.org/wp-content/uploads/2022/04/tempFileForShare_20220407-091803.jpg
ORGANIZER;CN="Dr. Jeremy L. Blunt":MAILTO:sip.initiative@gmail.com
END:VEVENT
BEGIN:VEVENT
DTSTART;TZID=America/New_York:20220410T090000
DTEND;TZID=America/New_York:20220410T120000
DTSTAMP:20260423T201931
CREATED:20221026T052633Z
LAST-MODIFIED:20221026T052633Z
UID:1382-1649581200-1649592000@sipinitiative.org
SUMMARY:YMCA Easter Extravaganza
DESCRIPTION:
URL:https://sipinitiative.org/event/ymca-easter-extravaganza/
CATEGORIES:Community Outreach
END:VEVENT
BEGIN:VEVENT
DTSTART;TZID=America/New_York:20220409T090000
DTEND;TZID=America/New_York:20220409T120000
DTSTAMP:20260423T201931
CREATED:20221026T052909Z
LAST-MODIFIED:20221026T052909Z
UID:1384-1649494800-1649505600@sipinitiative.org
SUMMARY:Community Egg-stravaganza
DESCRIPTION:
URL:https://sipinitiative.org/event/community-egg-stravaganza/
CATEGORIES:Community Outreach
ATTACH;FMTTYPE=image/jpeg:https://sipinitiative.org/wp-content/uploads/2022/10/278136733_1533525337048642_8271824465968786262_n-1.jpg
END:VEVENT
BEGIN:VEVENT
DTSTART;TZID=America/New_York:20220402T090000
DTEND;TZID=America/New_York:20220402T120000
DTSTAMP:20260423T201931
CREATED:20221026T053134Z
LAST-MODIFIED:20221026T053134Z
UID:1388-1648890000-1648900800@sipinitiative.org
SUMMARY:Driving Into Recovery
DESCRIPTION:
URL:https://sipinitiative.org/event/driving-into-recovery/
ATTACH;FMTTYPE=image/jpeg:https://sipinitiative.org/wp-content/uploads/2022/10/277677111_1528004794267363_856296095711405885_n.jpg
END:VEVENT
BEGIN:VEVENT
DTSTART;TZID=America/New_York:20220319T110000
DTEND;TZID=America/New_York:20220319T140000
DTSTAMP:20260423T201931
CREATED:20220209T161443Z
LAST-MODIFIED:20220210T050416Z
UID:1110-1647687600-1647698400@sipinitiative.org
SUMMARY:West Side Health & Wellness Community Kickback
DESCRIPTION:
URL:https://sipinitiative.org/event/wbr-community-kickback/
LOCATION:Belleview Shopping Center\, 58474 Belleview Drive\, Plaquemine\, LA\, 70764\, United States
CATEGORIES:Community Outreach,Food Distribution
ATTACH;FMTTYPE=image/png:https://sipinitiative.org/wp-content/uploads/2022/02/Navy-Yellow-Photo-Collage-Calamity-Donation-Poster-Instagram-Post.png
ORGANIZER;CN="Dr. Jeremy L. Blunt":MAILTO:sip.initiative@gmail.com
END:VEVENT
BEGIN:VEVENT
DTSTART;TZID=America/New_York:20220316T143000
DTEND;TZID=America/New_York:20220316T170000
DTSTAMP:20260423T201931
CREATED:20220330T203006Z
LAST-MODIFIED:20220330T203006Z
UID:1129-1647441000-1647450000@sipinitiative.org
SUMMARY:Project Ready - Gender-Based Mentoring Program
DESCRIPTION:
URL:https://sipinitiative.org/event/project-ready-gender-based-mentoring-program/
LOCATION:Scotlandville Magnet High School\, 9870 Scotland Ave\, Baton Rouge\, LA\, 70807\, United States\, Baton Rouge\, LA\, 70807\, United States
CATEGORIES:Mentoring
END:VEVENT
BEGIN:VEVENT
DTSTART;TZID=America/New_York:20211009T110000
DTEND;TZID=America/New_York:20211009T130000
DTSTAMP:20260423T201931
CREATED:20210919T020339Z
LAST-MODIFIED:20210919T020658Z
UID:639-1633777200-1633784400@sipinitiative.org
SUMMARY:Blanket and Soup Giveaway
DESCRIPTION:Volunteer Registration
URL:https://sipinitiative.org/event/blanket-and-soup-giveaway/
CATEGORIES:Unsheltered Outreach
ATTACH;FMTTYPE=image/png:https://sipinitiative.org/wp-content/uploads/2021/09/0001-8167892470_20210918_162742_0000.png
ORGANIZER;CN="Dr. Jeremy L. Blunt":MAILTO:sip.initiative@gmail.com
END:VEVENT
BEGIN:VEVENT
DTSTART;TZID=America/New_York:20210919T110000
DTEND;TZID=America/New_York:20210919T130000
DTSTAMP:20260423T201931
CREATED:20210919T015911Z
LAST-MODIFIED:20210919T020726Z
UID:632-1632049200-1632056400@sipinitiative.org
SUMMARY:Donaldsonville Hurricane Ida Relief Food Distribution
DESCRIPTION:Volunteer Registration
URL:https://sipinitiative.org/event/donaldsonville-hurricane-ida-relief-food-distribution/
CATEGORIES:Food Distribution
ATTACH;FMTTYPE=image/jpeg:https://sipinitiative.org/wp-content/uploads/2021/09/PSX_20210913_121814-1.jpg
ORGANIZER;CN="Dr. Jeremy L. Blunt":MAILTO:sip.initiative@gmail.com
END:VEVENT
BEGIN:VEVENT
DTSTART;TZID=America/New_York:20210918T100000
DTEND;TZID=America/New_York:20210918T120000
DTSTAMP:20260423T201931
CREATED:20210908T020810Z
LAST-MODIFIED:20210919T020741Z
UID:490-1631959200-1631966400@sipinitiative.org
SUMMARY:Community Relief Food Distribution
DESCRIPTION:Volunteer Registration
URL:https://sipinitiative.org/event/community-relief-food-distribution/
LOCATION:C B Pennington Jr YMCA\, 15550 Old Hammond Hwy\, Baton Rouge\, LA\, 70816\, United States
CATEGORIES:Food Distribution
ATTACH;FMTTYPE=image/jpeg:https://sipinitiative.org/wp-content/uploads/2021/09/flyer-1.jpg
ORGANIZER;CN="Dr. Jeremy L. Blunt":MAILTO:sip.initiative@gmail.com
END:VEVENT
BEGIN:VEVENT
DTSTART;TZID=America/New_York:20210911T100000
DTEND;TZID=America/New_York:20210911T120000
DTSTAMP:20260423T201931
CREATED:20210817T114139Z
LAST-MODIFIED:20210919T020829Z
UID:455-1631354400-1631361600@sipinitiative.org
SUMMARY:Back to School Kickback
DESCRIPTION:
URL:https://sipinitiative.org/event/back-to-school-kickback/
LOCATION:Cristo Rey\, 4000 St. Gerard Ave.\, Baton Rouge\, LA\, 70805\, United States
CATEGORIES:Back to School
ORGANIZER;CN="Deatra Peoples-Blunt":MAILTO:dpeoples@thestitchesgroup.com
END:VEVENT
BEGIN:VEVENT
DTSTART;TZID=America/New_York:20210423T180000
DTEND;TZID=America/New_York:20210423T210000
DTSTAMP:20260423T201931
CREATED:20210329T213319Z
LAST-MODIFIED:20210919T020840Z
UID:161-1619200800-1619211600@sipinitiative.org
SUMMARY:Courtyard & Conversation
DESCRIPTION:
URL:https://sipinitiative.org/event/courtyard-conversation/
LOCATION:Stitches Group HQ Office\, 11616 Southfork Drive\, Baton Rouge\, LA\, 70816\, United States
CATEGORIES:Networking Event
END:VEVENT
END:VCALENDAR