BEGIN:VCALENDAR
VERSION:2.0
PRODID:-//Stitches Influencing Purpose Initiative  - ECPv6.15.20//NONSGML v1.0//EN
CALSCALE:GREGORIAN
METHOD:PUBLISH
X-WR-CALNAME:Stitches Influencing Purpose Initiative 
X-ORIGINAL-URL:https://sipinitiative.org
X-WR-CALDESC:Events for Stitches Influencing Purpose Initiative 
REFRESH-INTERVAL;VALUE=DURATION:PT1H
X-Robots-Tag:noindex
X-PUBLISHED-TTL:PT1H
BEGIN:VTIMEZONE
TZID:America/New_York
BEGIN:DAYLIGHT
TZOFFSETFROM:-0500
TZOFFSETTO:-0400
TZNAME:EDT
DTSTART:20230312T070000
END:DAYLIGHT
BEGIN:STANDARD
TZOFFSETFROM:-0400
TZOFFSETTO:-0500
TZNAME:EST
DTSTART:20231105T060000
END:STANDARD
BEGIN:DAYLIGHT
TZOFFSETFROM:-0500
TZOFFSETTO:-0400
TZNAME:EDT
DTSTART:20240310T070000
END:DAYLIGHT
BEGIN:STANDARD
TZOFFSETFROM:-0400
TZOFFSETTO:-0500
TZNAME:EST
DTSTART:20241103T060000
END:STANDARD
BEGIN:DAYLIGHT
TZOFFSETFROM:-0500
TZOFFSETTO:-0400
TZNAME:EDT
DTSTART:20250309T070000
END:DAYLIGHT
BEGIN:STANDARD
TZOFFSETFROM:-0400
TZOFFSETTO:-0500
TZNAME:EST
DTSTART:20251102T060000
END:STANDARD
END:VTIMEZONE
BEGIN:VEVENT
DTSTART;TZID=America/New_York:20240427T100000
DTEND;TZID=America/New_York:20240427T130000
DTSTAMP:20260425T001427
CREATED:20240421T152548Z
LAST-MODIFIED:20240421T152548Z
UID:1871-1714212000-1714222800@sipinitiative.org
SUMMARY:Red Wig Walk 2024
DESCRIPTION:
URL:https://sipinitiative.org/event/red-wig-walk-2024/
LOCATION:AZ Young Park\, 800 3rd Street\, Baton Rouge\, LA 70801\, 800 Third Street\, BATON ROUGE\, LA\, 70801\, United States
CATEGORIES:Community Awareness,Community Outreach,Resource Distribution
ATTACH;FMTTYPE=image/jpeg:https://sipinitiative.org/wp-content/uploads/2024/04/Red-Wig-Walk-2024.jpg
END:VEVENT
END:VCALENDAR