BEGIN:VCALENDAR
VERSION:2.0
PRODID:-//Stitches Influencing Purpose Initiative  - ECPv6.15.20//NONSGML v1.0//EN
CALSCALE:GREGORIAN
METHOD:PUBLISH
X-WR-CALNAME:Stitches Influencing Purpose Initiative 
X-ORIGINAL-URL:https://sipinitiative.org
X-WR-CALDESC:Events for Stitches Influencing Purpose Initiative 
REFRESH-INTERVAL;VALUE=DURATION:PT1H
X-Robots-Tag:noindex
X-PUBLISHED-TTL:PT1H
BEGIN:VTIMEZONE
TZID:America/New_York
BEGIN:DAYLIGHT
TZOFFSETFROM:-0500
TZOFFSETTO:-0400
TZNAME:EDT
DTSTART:20230312T070000
END:DAYLIGHT
BEGIN:STANDARD
TZOFFSETFROM:-0400
TZOFFSETTO:-0500
TZNAME:EST
DTSTART:20231105T060000
END:STANDARD
BEGIN:DAYLIGHT
TZOFFSETFROM:-0500
TZOFFSETTO:-0400
TZNAME:EDT
DTSTART:20240310T070000
END:DAYLIGHT
BEGIN:STANDARD
TZOFFSETFROM:-0400
TZOFFSETTO:-0500
TZNAME:EST
DTSTART:20241103T060000
END:STANDARD
BEGIN:DAYLIGHT
TZOFFSETFROM:-0500
TZOFFSETTO:-0400
TZNAME:EDT
DTSTART:20250309T070000
END:DAYLIGHT
BEGIN:STANDARD
TZOFFSETFROM:-0400
TZOFFSETTO:-0500
TZNAME:EST
DTSTART:20251102T060000
END:STANDARD
END:VTIMEZONE
BEGIN:VEVENT
DTSTART;VALUE=DATE:20241001
DTEND;VALUE=DATE:20241225
DTSTAMP:20260424T113057
CREATED:20241010T223105Z
LAST-MODIFIED:20241021T173247Z
UID:1519-1727740800-1735084799@sipinitiative.org
SUMMARY:SIP: The S.T.E.A.L.T.H. Project
DESCRIPTION:The Stitches’ Group is honored to present our annual holiday project\, The S.T.E.A.L.T.H. (Service Team of Elves and Angels Laboring Together to Help) Holiday Project.\nThe S.T.E.A.L.T.H. Holiday Project is different from traditional holiday projects by who it aims to help. It seeks those who do not normally receive assistance and would not speak of their hardship. The families who do not have\, are struggling to get by\, and often would never ask for handouts or a hand up will get many of their wishes granted during this season of giving with your help. \n \nHow Can You Get Involved?\nThere are several ways to be involved \n \n\nOur Angels adopt members of the families and provide gifts for them. They create the miracles that make this initiative work. \n\n \nOur Elves are the backbone of our process. They pick up presents\, wrap presents\, help with social media & assist with delivering presents. \n\n \nSanta’s – Our Santa’s are our special stars that wrap presents & deliver presents to the kids all over the Capitol City & surrounding area!! They provide door to door service dressed in unique Santa hats!! \n\n \n\nElves\n \nAngels\n \nSanta’s\n\n\n \nYou can choose one way to help or many ways!! We want the experience to be as fulfilling for you as it is for the families we serve. Let’s make a bigger impact on our community to show how much we care!! \n \n \n \nApplications DO NOT need to be submitted by a member of the family – however\, we will need to speak to the adult/parent in the family prior to actually accepting that family for assistance. \n \nAll families applying for assistance must reside in Louisiana. \n \n\nApply\n \nNominate a Family\n\n \nWhat Do The Families Need & Want?\nFamilies are nominated and selected based on need and circumstances. \n \n(We do not accept or give out any violent or offensive toys\, books or gifts of any type.) \n \nAll gifts will need to be into one of our drop off locations by Dec. 15th. \n \nWhere Do People Drop Off Presents?\nThe Stitches Group HQ Office\n11616 Southfork Avenue\, Suite 400\, Baton Rouge\, LA 70816 \n \nHow Do The Presents Get Wrapped & Delivered?\nWe are counting on our Elves & Santa Clauses to gather to wrap presents\, deliver presents and show those in and around the Capitol city we love them!!! \n \nThe Stitches Group and their partners will host a wrapping party and the launching point for Santa take off for delivery.  (TBA) \n \n\nAdopt a Family / Donate\n\n \nWho do we talk to for more details & sign up?\nAll Marketing & P.R. contact: \n \n225.955.4971 info@thestitchesgroup.com \n \nThank you again. Share our vision and ask others to join us! All ages are welcome!
URL:https://sipinitiative.org/event/sip-the-stealth-project/
LOCATION:LA
CATEGORIES:Community Outreach,Resource Distribution
ATTACH;FMTTYPE=application/pdf:https://sipinitiative.org/wp-content/uploads/2023/01/S.T.E.A.L.T.H.-2024-.pdf
ORGANIZER;CN="Dr. Jeremy L. Blunt":MAILTO:sip.initiative@gmail.com
END:VEVENT
BEGIN:VEVENT
DTSTART;TZID=America/New_York:20241102T080000
DTEND;TZID=America/New_York:20241102T110000
DTSTAMP:20260424T113057
CREATED:20231021T180006Z
LAST-MODIFIED:20241021T173750Z
UID:1602-1730534400-1730545200@sipinitiative.org
SUMMARY:Walk to End Alzheimer's Disease
DESCRIPTION:We are so excited to annouce our partnership with @alzassociation of Baton Rouge and our support for the 2024 Walk to End Alzheimers. Join in our campaign by helping us reach our 1K donation goal. Together we can fight for a better future \nUse this link to sign up to volunteer with us.\nhttps://form.jotform.com/TheSIP/2024-volunteer-registration-form
URL:https://sipinitiative.org/event/walk-to-end-alzheimers-disease/
LOCATION:Pennington Biomedical Research Center\, 6400 Perkins Road\, Baton Rouge\, LA\, 70808\, United States
CATEGORIES:Community Awareness,Community Outreach,Fundraiser
ORGANIZER;CN="Deatra Peoples-Blunt":MAILTO:dpeoples@thestitchesgroup.com
END:VEVENT
END:VCALENDAR